BEGIN:VCALENDAR
VERSION:2.0
PRODID:-//Canadian Marine Industries & Shipbuilding Association//Silkstart 
 Technology Inc.//
BEGIN:VTIMEZONE
TZID:Canada/Eastern
BEGIN:DAYLIGHT
DTSTART;VALUE=DATE-TIME:20260308T020000
TZNAME:EDT
TZOFFSETFROM:-0500
TZOFFSETTO:-0400
END:DAYLIGHT
BEGIN:STANDARD
DTSTART;VALUE=DATE-TIME:20261101T020000
TZNAME:EST
TZOFFSETFROM:-0400
TZOFFSETTO:-0500
END:STANDARD
END:VTIMEZONE
BEGIN:VEVENT
SUMMARY:CANSEC 2026
DTSTART;TZID=Canada/Eastern;VALUE=DATE-TIME:20260527T180000
DTEND;TZID=Canada/Eastern;VALUE=DATE-TIME:20260528T190000
DTSTAMP;VALUE=DATE-TIME:20250910T205427
UID:68c1e5831995c705b29b6677
DESCRIPTION:CANSEC has been held annually in Ottawa since 1998 by the 
 Canadian Association of Defence and Security Industries (CADSI). CANSEC 
 has always been a great success\, and CANSEC 2026 will once again showcase
  leading-edge technologies\, products and services for land-based\, 
 naval\, aerospace and joint forces military units. CANSEC is also a one-
 stop shop for first responders\, police\, border and security entities and
  special operations units. View Online 
LOCATION:EY Centre\, Ottawa
PRIORITY:5
URL:https://www.cmisa.ca:443/events/cansec-2026
END:VEVENT
END:VCALENDAR
