BEGIN:VCALENDAR
VERSION:2.0
PRODID:-//Canadian Marine Industries & Shipbuilding Association//Silkstart 
 Technology Inc.//
BEGIN:VTIMEZONE
TZID:Canada/Eastern
BEGIN:DAYLIGHT
DTSTART;VALUE=DATE-TIME:20260308T020000
TZNAME:EDT
TZOFFSETFROM:-0500
TZOFFSETTO:-0400
END:DAYLIGHT
BEGIN:STANDARD
DTSTART;VALUE=DATE-TIME:20261101T020000
TZNAME:EST
TZOFFSETFROM:-0400
TZOFFSETTO:-0500
END:STANDARD
END:VTIMEZONE
BEGIN:VEVENT
SUMMARY:H2O Home to Overseas Conference 2025
DTSTART;TZID=Canada/Eastern;VALUE=DATE-TIME:20260608T090000
DTEND;TZID=Canada/Eastern;VALUE=DATE-TIME:20260611T190000
DTSTAMP;VALUE=DATE-TIME:20260309T175117
UID:69af089557912605dca25348
DESCRIPTION:H2O Conference Registration June 8 &ndash\; 10 Includes: access
  to all presentations\, B2B meetings\, industry showcase\, receptions\, 
 nutrition breaks and lunches. Early Bird rates available until March 31\, 
 2026 $425 (member) | $500 (non-member) After March 31\, 2026\, rates are: 
 $475 (member) | $550 (non-member) Students Free Students must show valid 
 ID. Trade Commissioners / Government Employees Free 
LOCATION:1650 Argyle St\, Halifax\, NS B3J 0E6\, Canada
PRIORITY:5
URL:https://www.cmisa.ca:443/events/h2o-home-to-overseas-conference-2025-1
END:VEVENT
END:VCALENDAR
