BEGIN:VCALENDAR
VERSION:2.0
PRODID:-//Canadian Marine Industries & Shipbuilding Association//Silkstart 
 Technology Inc.//
BEGIN:VTIMEZONE
TZID:Canada/Mountain
BEGIN:DAYLIGHT
DTSTART;VALUE=DATE-TIME:20260308T020000
TZNAME:MDT
TZOFFSETFROM:-0700
TZOFFSETTO:-0600
END:DAYLIGHT
BEGIN:STANDARD
DTSTART;VALUE=DATE-TIME:20261101T020000
TZNAME:MST
TZOFFSETFROM:-0600
TZOFFSETTO:-0700
END:STANDARD
END:VTIMEZONE
BEGIN:VEVENT
SUMMARY:Mari-Tech 2026
DTSTART;TZID=Canada/Mountain;VALUE=DATE-TIME:20260512T080000
DTEND;TZID=Canada/Mountain;VALUE=DATE-TIME:20260514T200000
DTSTAMP;VALUE=DATE-TIME:20260309T174153
UID:69af066157912605dca2516c
DESCRIPTION:MARI-TECH 2026 &ndash\; BY THE NUMBERS: 2 Keynotes (Opening / 
 Closing) 4 Panel Discussions (tentatively) Talent / Workforce Development 
 Arctic Technology Adoption Transition to New Fleets (while supporting 
 Legacy Fleets) 24 Technical Presentations 2 Social Networking Events 
 Tuesday &ndash\; Opening Reception (all) Wednesday &ndash\; Evening Event 
 CIMarE 50th Anniversary (ticketed) Exhibit Hall &ndash\; ALMOST SOLD OUT 
 &ndash\; only 2 spaces remaining anticipate selling out by end of January 
 2026 Sponsors &ndash\; many onboard\, room for more High School Student 
 Outreach Program (Year 3) Marine Industry Advisory Committee (MIAC) 
 &ndash\; Mon/Tues meetings (invitation only) PSPC led procurement outlook 
 presentation &ndash\; Tues 1430-1630 Pre-conference short course(s) NEW 
 &ndash\; Engaging Academia Session &ndash\; Tues 1630-1730 Participants 
 &ndash\; Target 600+ KEY PLANNING DATES: March 31\, 2026 &ndash\; Early 
 Bird Registration Closed April 12\, 2026 &ndash\; Deadline to book 
 accommodation at negotiated conference rates 
LOCATION:720 Douglas St\, Victoria\, BC V8W 3M7\, Canada
PRIORITY:5
URL:https://www.cmisa.ca:443/events/mari-tech-2026
END:VEVENT
END:VCALENDAR
